BEGIN:VCALENDAR
X-LOTUS-CHARSET:UTF-8
VERSION:2.0
PRODID:-//Lotus Development Corporation//NONSGML Notes 14.0.0//EN_C
BEGIN:VTIMEZONE
TZID:W. Europe Standard Time
BEGIN:STANDARD
DTSTART:19501029T020000
TZOFFSETFROM:+0200
TZOFFSETTO:+0100
RRULE:FREQ=YEARLY;BYMINUTE=0;BYHOUR=2;BYDAY=-1SU;BYMONTH=10
END:STANDARD
BEGIN:DAYLIGHT
DTSTART:19500326T020000
TZOFFSETFROM:+0100
TZOFFSETTO:+0200
RRULE:FREQ=YEARLY;BYMINUTE=0;BYHOUR=2;BYDAY=-1SU;BYMONTH=3
END:DAYLIGHT
END:VTIMEZONE
BEGIN:VEVENT
DTSTART;TZID=W. Europe Standard Time:20260401T170000
DTEND;TZID=W. Europe Standard Time:20260401T200000
TRANSP:OPAQUE
LAST-MODIFIED:20260214T091116Z
DTSTAMP:20260216T045256Z
SEQUENCE:0
CATEGORIES:Match
CLASS:PUBLIC
SUMMARY:Geführtes Training
LOCATION:Obernau Kriens
UID:1A1173C83D286F5EC1258D9E00320823-Lotus_Notes_Generated
X-LOTUS-UPDATE-SEQ:2
X-LOTUS-UPDATE-WISL:$B:1;$R:1;$E:1;$W:1;$O:1;$M:1;RequiredAttendees:1;INetRequiredNames:1;AltRequiredNames:1;StorageRequiredNames:1;OptionalAttendees:1;INetOptionalNames:1;AltOptionalNames:1;StorageOptionalNames:1;$S:2;$L:2
X-LOTUS-NOTESVERSION:2
X-LOTUS-APPTTYPE:0
X-LOTUS-CHILD-UID:1A1173C83D286F5EC1258D9E00320823
END:VEVENT
BEGIN:VEVENT
DTSTART;TZID=W. Europe Standard Time:20260328T130000
DTEND;TZID=W. Europe Standard Time:20260328T170000
TRANSP:OPAQUE
LAST-MODIFIED:20260214T091019Z
DTSTAMP:20260216T045256Z
SEQUENCE:0
CATEGORIES:Match
CLASS:PUBLIC
SUMMARY:Freundschaftsmatch Nidwalden - Winterthur
LOCATION:Hüslenmoos Emmen
UID:0F3756E56E7E8B24C1258D9E00326219-Lotus_Notes_Generated
X-LOTUS-UPDATE-SEQ:1
X-LOTUS-UPDATE-WISL:$S:1;$L:1;$B:1;$R:1;$E:1;$W:1;$O:1;$M:1;RequiredAttendees:1;INetRequiredNames:1;AltRequiredNames:1;StorageRequiredNames:1;OptionalAttendees:1;INetOptionalNames:1;AltOptionalNames:1;StorageOptionalNames:1
X-LOTUS-NOTESVERSION:2
X-LOTUS-APPTTYPE:0
X-LOTUS-CHILD-UID:0F3756E56E7E8B24C1258D9E00326219
END:VEVENT
BEGIN:VEVENT
DTSTART;TZID=W. Europe Standard Time:20260411T130000
DTEND;TZID=W. Europe Standard Time:20260411T170000
TRANSP:OPAQUE
LAST-MODIFIED:20260214T091554Z
DTSTAMP:20260216T045256Z
SEQUENCE:0
CATEGORIES:Match
CLASS:PUBLIC
SUMMARY:1. Rifle Cup
LOCATION:Sachseln
UID:599AEFCFE3599345C1258D9E0032D4B5-Lotus_Notes_Generated
X-LOTUS-UPDATE-SEQ:3
X-LOTUS-UPDATE-WISL:$B:1;$R:1;$E:1;$W:1;$O:1;$M:1;RequiredAttendees:1;INetRequiredNames:1;AltRequiredNames:1;StorageRequiredNames:1;OptionalAttendees:1;INetOptionalNames:1;AltOptionalNames:1;StorageOptionalNames:1;$L:3;$S:3
X-LOTUS-NOTESVERSION:2
X-LOTUS-APPTTYPE:0
X-LOTUS-CHILD-UID:599AEFCFE3599345C1258D9E0032D4B5
END:VEVENT
BEGIN:VEVENT
DTSTART;TZID=W. Europe Standard Time:20260502T130000
DTEND;TZID=W. Europe Standard Time:20260502T170000
TRANSP:OPAQUE
LAST-MODIFIED:20260214T093609Z
DTSTAMP:20260216T045256Z
SEQUENCE:0
CATEGORIES:Match
CLASS:PUBLIC
SUMMARY:2. Rifle Cup
LOCATION:Hüslenmoos Emmen
UID:D14CF893987D92EDC1258D9E0034B4AD-Lotus_Notes_Generated
X-LOTUS-UPDATE-SEQ:3
X-LOTUS-UPDATE-WISL:$B:1;$R:1;$E:1;$W:1;$O:1;$M:1;RequiredAttendees:1;INetRequiredNames:1;AltRequiredNames:1;StorageRequiredNames:1;OptionalAttendees:1;INetOptionalNames:1;AltOptionalNames:1;StorageOptionalNames:1;$S:3;$L:3
X-LOTUS-NOTESVERSION:2
X-LOTUS-APPTTYPE:0
X-LOTUS-CHILD-UID:D14CF893987D92EDC1258D9E0034B4AD
BEGIN:VALARM
ACTION:DISPLAY
TRIGGER:-PT30M
DESCRIPTION:2. Rifle Cup
END:VALARM
END:VEVENT
BEGIN:VEVENT
DTSTART;TZID=W. Europe Standard Time:20260516T090000
DTEND;TZID=W. Europe Standard Time:20260516T120000
TRANSP:OPAQUE
LAST-MODIFIED:20260214T125004Z
DTSTAMP:20260216T045256Z
SEQUENCE:0
CATEGORIES:Match
CLASS:PUBLIC
SUMMARY:3. Rifle Cup
LOCATION:Sachseln
UID:7C0F43327799AC48C1258D9E00466EB0-Lotus_Notes_Generated
X-LOTUS-UPDATE-SEQ:4
X-LOTUS-UPDATE-WISL:$B:1;$R:1;$E:1;$W:1;$O:1;$M:1;RequiredAttendees:1;INetRequiredNames:1;AltRequiredNames:1;StorageRequiredNames:1;OptionalAttendees:1;INetOptionalNames:1;AltOptionalNames:1;StorageOptionalNames:1;$L:3;$S:4
X-LOTUS-NOTESVERSION:2
X-LOTUS-APPTTYPE:0
X-LOTUS-CHILD-UID:7C0F43327799AC48C1258D9E00466EB0
END:VEVENT
BEGIN:VEVENT
DTSTART;TZID=W. Europe Standard Time:20260905T090000
DTEND;TZID=W. Europe Standard Time:20260905T120000
TRANSP:OPAQUE
LAST-MODIFIED:20260214T154748Z
DTSTAMP:20260216T045256Z
SEQUENCE:0
CATEGORIES:Match
CLASS:PUBLIC
SUMMARY:Kantonalmatch
LOCATION:Obernau Kriens
UID:50665DDA3CF9A0F8C1258D9E0056A93A-Lotus_Notes_Generated
X-LOTUS-UPDATE-SEQ:9
X-LOTUS-UPDATE-WISL:$B:1;$R:1;$E:1;$W:1;$O:1;$M:1;RequiredAttendees:1;INetRequiredNames:1;AltRequiredNames:1;StorageRequiredNames:1;OptionalAttendees:1;INetOptionalNames:1;AltOptionalNames:1;StorageOptionalNames:1;$S:9;$L:9
X-LOTUS-NOTESVERSION:2
X-LOTUS-APPTTYPE:0
X-LOTUS-CHILD-UID:50665DDA3CF9A0F8C1258D9E0056A93A
BEGIN:VALARM
ACTION:DISPLAY
TRIGGER:-PT30M
DESCRIPTION:Kantonalmatch
END:VALARM
END:VEVENT
BEGIN:VEVENT
DTSTART;TZID=W. Europe Standard Time:20260926T070000
DTEND;TZID=W. Europe Standard Time:20260926T170000
TRANSP:OPAQUE
LAST-MODIFIED:20260215T094710Z
DTSTAMP:20260216T045256Z
SEQUENCE:0
CATEGORIES:Match
CLASS:PUBLIC
SUMMARY:Zentralschweizer Ständematch
LOCATION:Brünig\, Sachseln
UID:54FBDE9144CF039CC1258D9F0035BA66-Lotus_Notes_Generated
X-LOTUS-UPDATE-SEQ:1
X-LOTUS-UPDATE-WISL:$S:1;$L:1;$B:1;$R:1;$E:1;$W:1;$O:1;$M:1;RequiredAttendees:1;INetRequiredNames:1;AltRequiredNames:1;StorageRequiredNames:1;OptionalAttendees:1;INetOptionalNames:1;AltOptionalNames:1;StorageOptionalNames:1
X-LOTUS-NOTESVERSION:2
X-LOTUS-APPTTYPE:0
X-LOTUS-CHILD-UID:54FBDE9144CF039CC1258D9F0035BA66
BEGIN:VALARM
ACTION:DISPLAY
TRIGGER:-PT30M
DESCRIPTION:Zentralschweizer Ständematch
END:VALARM
END:VEVENT
BEGIN:VEVENT
DTSTART;TZID=W. Europe Standard Time:20261010T130000
DTEND;TZID=W. Europe Standard Time:20261010T170000
TRANSP:OPAQUE
LAST-MODIFIED:20260215T095109Z
DTSTAMP:20260216T045256Z
SEQUENCE:0
CATEGORIES:Match
CLASS:PUBLIC
SUMMARY:Schlussmatch
UID:3E35D3F3BB47E8B3C1258D9F0035D948-Lotus_Notes_Generated
X-LOTUS-UPDATE-SEQ:2
X-LOTUS-UPDATE-WISL:$B:1;$R:1;$E:1;$W:1;$O:1;$M:1;RequiredAttendees:1;INetRequiredNames:1;AltRequiredNames:1;StorageRequiredNames:1;OptionalAttendees:1;INetOptionalNames:1;AltOptionalNames:1;StorageOptionalNames:1;$S:2;$L:2
X-LOTUS-NOTESVERSION:2
X-LOTUS-APPTTYPE:0
X-LOTUS-CHILD-UID:3E35D3F3BB47E8B3C1258D9F0035D948
BEGIN:VALARM
ACTION:DISPLAY
TRIGGER:-PT30M
DESCRIPTION:Schlussmatch
END:VALARM
END:VEVENT
BEGIN:VEVENT
DTSTART;TZID=W. Europe Standard Time:20260808T080000
DTEND;TZID=W. Europe Standard Time:20260808T120000
TRANSP:OPAQUE
LAST-MODIFIED:20260215T095318Z
DTSTAMP:20260216T045256Z
SEQUENCE:0
CATEGORIES:Match
CLASS:PUBLIC
SUMMARY:Trainingstag Matchschützen
LOCATION:Kriens\, Obernau
UID:F0C1959659BB4D8AC1258D9F00362D9C-Lotus_Notes_Generated
X-LOTUS-UPDATE-SEQ:4
X-LOTUS-UPDATE-WISL:$B:1;$R:1;$E:1;$W:1;$O:1;$M:1;RequiredAttendees:1;INetRequiredNames:1;AltRequiredNames:1;StorageRequiredNames:1;OptionalAttendees:1;INetOptionalNames:1;AltOptionalNames:1;StorageOptionalNames:1;$L:3;$S:4
X-LOTUS-NOTESVERSION:2
X-LOTUS-APPTTYPE:0
X-LOTUS-CHILD-UID:F0C1959659BB4D8AC1258D9F00362D9C
BEGIN:VALARM
ACTION:DISPLAY
TRIGGER:-PT30M
DESCRIPTION:Trainingstag Matchschützen
END:VALARM
END:VEVENT
BEGIN:VEVENT
DTSTART;TZID=W. Europe Standard Time:20260227T143000
DTEND;TZID=W. Europe Standard Time:20260227T211500
TRANSP:OPAQUE
LAST-MODIFIED:20260215T095653Z
DTSTAMP:20260216T045256Z
SEQUENCE:0
CATEGORIES:Match
CLASS:PUBLIC
DESCRIPTION:https
 ://www.bruenigindoor.ch/de/Angebote/Sport-Freizeitschuetze/Matchschuet
 zentreffen
SUMMARY:17. Matchschützentreffen Ordonnanz
LOCATION:Brünig Indoor
UID:AE680257217D57CCC1258D9F0036820D-Lotus_Notes_Generated
X-LOTUS-UPDATE-SEQ:5
X-LOTUS-UPDATE-WISL:$R:1;$E:1;$W:1;$O:1;$M:1;RequiredAttendees:1;INetRequiredNames:1;AltRequiredNames:1;StorageRequiredNames:1;OptionalAttendees:1;INetOptionalNames:1;AltOptionalNames:1;StorageOptionalNames:1;$S:5;$L:5;$B:5
X-LOTUS-NOTESVERSION:2
X-LOTUS-APPTTYPE:0
X-LOTUS-CHILD-UID:AE680257217D57CCC1258D9F0036820D
BEGIN:VALARM
ACTION:DISPLAY
TRIGGER:-PT30M
DESCRIPTION:17. Matchschützentreffen Ordonnanz
END:VALARM
END:VEVENT
BEGIN:VEVENT
DTSTART;TZID=W. Europe Standard Time:20260228T083000
DTEND;TZID=W. Europe Standard Time:20260228T171500
TRANSP:OPAQUE
LAST-MODIFIED:20260215T095744Z
DTSTAMP:20260216T045256Z
SEQUENCE:0
CATEGORIES:Match
CLASS:PUBLIC
DESCRIPTION:https
 ://www.bruenigindoor.ch/de/Angebote/Sport-Freizeitschuetze/Matchschuet
 zentreffen
SUMMARY:17. Matchschützentreffen Ordonnanz
LOCATION:Brünig Indoor
UID:D780F0C56E787FE5C1258D9F0036A98D-Lotus_Notes_Generated
X-LOTUS-UPDATE-SEQ:5
X-LOTUS-UPDATE-WISL:$R:1;$E:1;$W:1;$O:1;$M:1;RequiredAttendees:1;INetRequiredNames:1;AltRequiredNames:1;StorageRequiredNames:1;OptionalAttendees:1;INetOptionalNames:1;AltOptionalNames:1;StorageOptionalNames:1;$S:5;$L:5;$B:5
X-LOTUS-NOTESVERSION:2
X-LOTUS-APPTTYPE:0
X-LOTUS-CHILD-UID:D780F0C56E787FE5C1258D9F0036A98D
BEGIN:VALARM
ACTION:DISPLAY
TRIGGER:-PT30M
DESCRIPTION:17. Matchschützentreffen Ordonnanz
END:VALARM
END:VEVENT
END:VCALENDAR
