BEGIN:VCALENDAR
X-LOTUS-CHARSET:UTF-8
VERSION:2.0
PRODID:-//Lotus Development Corporation//NONSGML Notes 14.0.0//EN_C
BEGIN:VTIMEZONE
TZID:W. Europe Standard Time
BEGIN:STANDARD
DTSTART:19501029T020000
TZOFFSETFROM:+0200
TZOFFSETTO:+0100
RRULE:FREQ=YEARLY;BYMINUTE=0;BYHOUR=2;BYDAY=-1SU;BYMONTH=10
END:STANDARD
BEGIN:DAYLIGHT
DTSTART:19500326T020000
TZOFFSETFROM:+0100
TZOFFSETTO:+0200
RRULE:FREQ=YEARLY;BYMINUTE=0;BYHOUR=2;BYDAY=-1SU;BYMONTH=3
END:DAYLIGHT
END:VTIMEZONE
BEGIN:VEVENT
DTSTART;TZID=W. Europe Standard Time:20260917T193000
DTEND;TZID=W. Europe Standard Time:20260917T233000
TRANSP:OPAQUE
LAST-MODIFIED:20260214T155309Z
DTSTAMP:20260216T045142Z
SEQUENCE:0
CATEGORIES:Rütli
CLASS:PUBLIC
SUMMARY:GV–Rütlisektion
LOCATION:Sternen Buochs
UID:24CF636AB725A8D3C1258D9E00572323-Lotus_Notes_Generated
X-LOTUS-UPDATE-SEQ:10
X-LOTUS-UPDATE-WISL:$R:1;$E:1;$W:1;$O:1;$M:1;RequiredAttendees:1;INetRequiredNames:1;AltRequiredNames:1;StorageRequiredNames:1;OptionalAttendees:1;INetOptionalNames:1;AltOptionalNames:1;StorageOptionalNames:1;$B:7;$S:10;$L:10
X-LOTUS-NOTESVERSION:2
X-LOTUS-APPTTYPE:0
X-LOTUS-CHILD-UID:24CF636AB725A8D3C1258D9E00572323
BEGIN:VALARM
ACTION:DISPLAY
TRIGGER:-PT30M
DESCRIPTION:GV–Rütlisektion
END:VALARM
END:VEVENT
BEGIN:VEVENT
DTSTART;TZID=W. Europe Standard Time:20261024T080000
DTEND;TZID=W. Europe Standard Time:20261024T150000
TRANSP:OPAQUE
LAST-MODIFIED:20260215T094610Z
DTSTAMP:20260216T045142Z
SEQUENCE:0
CATEGORIES:Rütli;SGD
CLASS:PUBLIC
SUMMARY:9. Ennetmooser Kniendschiessen
LOCATION:Ennetmoos
UID:89F5D1FE306F86E4C1258D9F00359A96-Lotus_Notes_Generated
X-LOTUS-UPDATE-SEQ:10
X-LOTUS-UPDATE-WISL:$B:1;$R:1;$E:1;$W:1;$O:1;$M:1;RequiredAttendees:1;INetRequiredNames:1;AltRequiredNames:1;StorageRequiredNames:1;OptionalAttendees:1;INetOptionalNames:1;AltOptionalNames:1;StorageOptionalNames:1;$L:9;$S:10
X-LOTUS-NOTESVERSION:2
X-LOTUS-APPTTYPE:0
X-LOTUS-CHILD-UID:89F5D1FE306F86E4C1258D9F00359A96
BEGIN:VALARM
ACTION:DISPLAY
TRIGGER:-PT30M
DESCRIPTION:9. Ennetmooser Kniendschiessen
END:VALARM
END:VEVENT
BEGIN:VEVENT
DTSTART;TZID=W. Europe Standard Time:20261003T090000
DTEND;TZID=W. Europe Standard Time:20261003T160000
TRANSP:OPAQUE
LAST-MODIFIED:20260215T094645Z
DTSTAMP:20260216T045142Z
SEQUENCE:0
CATEGORIES:Rütli;SGD
CLASS:PUBLIC
SUMMARY:Republikaner Kniendschiessen
LOCATION:Oberholz Gersau
UID:FB49005C6B079BA1C1258D9F0035AD3C-Lotus_Notes_Generated
X-LOTUS-UPDATE-SEQ:8
X-LOTUS-UPDATE-WISL:$B:1;$R:1;$E:1;$W:1;$O:1;$M:1;RequiredAttendees:1;INetRequiredNames:1;AltRequiredNames:1;StorageRequiredNames:1;OptionalAttendees:1;INetOptionalNames:1;AltOptionalNames:1;StorageOptionalNames:1;$S:7;$L:8
X-LOTUS-NOTESVERSION:2
X-LOTUS-APPTTYPE:0
X-LOTUS-CHILD-UID:FB49005C6B079BA1C1258D9F0035AD3C
BEGIN:VALARM
ACTION:DISPLAY
TRIGGER:-PT30M
DESCRIPTION:Republikaner Kniendschiessen
END:VALARM
END:VEVENT
BEGIN:VEVENT
DTSTART;TZID=W. Europe Standard Time:20261104T060000
DTEND;TZID=W. Europe Standard Time:20261104T200000
TRANSP:OPAQUE
LAST-MODIFIED:20260215T101114Z
DTSTAMP:20260216T045142Z
SEQUENCE:0
CATEGORIES:Rütli
CLASS:PUBLIC
SUMMARY:163. Rütlischiessen Gewehr
LOCATION:Rütli
UID:AD80095CC73FD3F7C1258D9F0037EF18-Lotus_Notes_Generated
X-LOTUS-UPDATE-SEQ:12
X-LOTUS-UPDATE-WISL:$B:1;$R:1;$E:1;$W:1;$O:1;$M:1;RequiredAttendees:1;INetRequiredNames:1;AltRequiredNames:1;StorageRequiredNames:1;OptionalAttendees:1;INetOptionalNames:1;AltOptionalNames:1;StorageOptionalNames:1;$L:10;$S:12
X-LOTUS-NOTESVERSION:2
X-LOTUS-APPTTYPE:0
X-LOTUS-CHILD-UID:AD80095CC73FD3F7C1258D9F0037EF18
BEGIN:VALARM
ACTION:DISPLAY
TRIGGER:-PT30M
DESCRIPTION:163. Rütlischiessen Gewehr
END:VALARM
END:VEVENT
END:VCALENDAR
