BEGIN:VCALENDAR
X-LOTUS-CHARSET:UTF-8
VERSION:2.0
PRODID:-//Lotus Development Corporation//NONSGML Notes 14.0.0//EN_C
BEGIN:VTIMEZONE
TZID:W. Europe Standard Time
BEGIN:STANDARD
DTSTART:19501029T020000
TZOFFSETFROM:+0200
TZOFFSETTO:+0100
RRULE:FREQ=YEARLY;BYMINUTE=0;BYHOUR=2;BYDAY=-1SU;BYMONTH=10
END:STANDARD
BEGIN:DAYLIGHT
DTSTART:19500326T020000
TZOFFSETFROM:+0100
TZOFFSETTO:+0200
RRULE:FREQ=YEARLY;BYMINUTE=0;BYHOUR=2;BYDAY=-1SU;BYMONTH=3
END:DAYLIGHT
END:VTIMEZONE
BEGIN:VEVENT
DTSTART;TZID=W. Europe Standard Time:20261024T080000
DTEND;TZID=W. Europe Standard Time:20261024T170000
TRANSP:OPAQUE
LAST-MODIFIED:20260215T100737Z
DTSTAMP:20260216T045051Z
SEQUENCE:0
CATEGORIES:Veteranen;Jugend
CLASS:PUBLIC
SUMMARY:JU – VE Final
LOCATION:Thun
UID:083641DBE0B8FF13C1258C05005E1B32-Lotus_Notes_Generated
X-LOTUS-UPDATE-SEQ:10
X-LOTUS-UPDATE-WISL:$B:1;$R:1;$E:1;$W:1;$O:1;$M:1;RequiredAttendees:1;INetRequiredNames:1;AltRequiredNames:1;StorageRequiredNames:1;OptionalAttendees:1;INetOptionalNames:1;AltOptionalNames:1;StorageOptionalNames:1;$S:10;$L:10
X-LOTUS-NOTESVERSION:2
X-LOTUS-APPTTYPE:0
X-LOTUS-CHILD-UID:083641DBE0B8FF13C1258C05005E1B32
BEGIN:VALARM
ACTION:DISPLAY
TRIGGER:-PT30M
DESCRIPTION:JU – VE Final
END:VALARM
END:VEVENT
BEGIN:VEVENT
DTSTART;TZID=W. Europe Standard Time:20260314T110000
DTEND;TZID=W. Europe Standard Time:20260314T150000
TRANSP:OPAQUE
LAST-MODIFIED:20260201T101310Z
DTSTAMP:20260216T045051Z
SEQUENCE:0
CATEGORIES:Veteranen
CLASS:PUBLIC
SUMMARY:GV Veteranen Nidwalden
LOCATION:Loppersaal Hergiswil
UID:EBF084464EA66217C1258C2C004C7F90-Lotus_Notes_Generated
X-LOTUS-UPDATE-SEQ:2
X-LOTUS-UPDATE-WISL:$B:1;$R:1;$E:1;$W:1;$O:1;$M:1;RequiredAttendees:1;INetRequiredNames:1;AltRequiredNames:1;StorageRequiredNames:1;OptionalAttendees:1;INetOptionalNames:1;AltOptionalNames:1;StorageOptionalNames:1;$S:2;$L:2
X-LOTUS-NOTESVERSION:2
X-LOTUS-APPTTYPE:0
X-LOTUS-CHILD-UID:EBF084464EA66217C1258C2C004C7F90
END:VEVENT
BEGIN:VEVENT
DTSTART;TZID=W. Europe Standard Time:20260904T160000
DTEND;TZID=W. Europe Standard Time:20260904T190000
TRANSP:OPAQUE
LAST-MODIFIED:20260201T101552Z
DTSTAMP:20260216T045051Z
SEQUENCE:0
CATEGORIES:Veteranen
CLASS:PUBLIC
DESCRIPTION:15:30 Schiesskartenausgabe\n16:00 - 18:00 Schiesszeit
SUMMARY:Veteranen Jahreschiessen 25/50m
LOCATION:SA  Teufmoos\, Hergiswil
UID:87BBA6F0C9239FD5C1258D9100383635-Lotus_Notes_Generated
X-LOTUS-UPDATE-SEQ:6
X-LOTUS-UPDATE-WISL:$R:1;$E:1;$W:1;$O:1;$M:1;RequiredAttendees:1;INetRequiredNames:1;AltRequiredNames:1;StorageRequiredNames:1;OptionalAttendees:1;INetOptionalNames:1;AltOptionalNames:1;StorageOptionalNames:1;$S:5;$L:6;$B:6
X-LOTUS-NOTESVERSION:2
X-LOTUS-APPTTYPE:0
X-LOTUS-CHILD-UID:87BBA6F0C9239FD5C1258D9100383635
BEGIN:VALARM
ACTION:DISPLAY
TRIGGER:-PT30M
DESCRIPTION:Veteranen Jahreschiessen 25/50m
END:VALARM
END:VEVENT
BEGIN:VEVENT
DTSTART;TZID=W. Europe Standard Time:20260905T133000
DTEND;TZID=W. Europe Standard Time:20260905T160000
TRANSP:OPAQUE
LAST-MODIFIED:20260201T101814Z
DTSTAMP:20260216T045051Z
SEQUENCE:0
CATEGORIES:Veteranen
CLASS:PUBLIC
DESCRIPTION:12:30 - 15:00 Schiesskartenausgabe\n13:30 - 15
 :00 Schiesszeit
SUMMARY:Veteranen Jahreschiessen 300m
LOCATION:SA Herdern\, Ennetbürhem
UID:9B5E9E4194A0C5A1C1258D910038712E-Lotus_Notes_Generated
X-LOTUS-UPDATE-SEQ:5
X-LOTUS-UPDATE-WISL:$R:1;$E:1;$W:1;$O:1;$M:1;RequiredAttendees:1;INetRequiredNames:1;AltRequiredNames:1;StorageRequiredNames:1;OptionalAttendees:1;INetOptionalNames:1;AltOptionalNames:1;StorageOptionalNames:1;$S:3;$L:5;$B:5
X-LOTUS-NOTESVERSION:2
X-LOTUS-APPTTYPE:0
X-LOTUS-CHILD-UID:9B5E9E4194A0C5A1C1258D910038712E
BEGIN:VALARM
ACTION:DISPLAY
TRIGGER:-PT30M
DESCRIPTION:Veteranen Jahreschiessen 300m
END:VALARM
END:VEVENT
END:VCALENDAR
